BEGIN:VCALENDAR
VERSION:2.0
PRODID:-//VFW 5354 - ECPv6.15.18//NONSGML v1.0//EN
CALSCALE:GREGORIAN
METHOD:PUBLISH
X-ORIGINAL-URL:https://vfw5354.org
X-WR-CALDESC:Events for VFW 5354
REFRESH-INTERVAL;VALUE=DURATION:PT1H
X-Robots-Tag:noindex
X-PUBLISHED-TTL:PT1H
BEGIN:VTIMEZONE
TZID:UTC
BEGIN:STANDARD
TZOFFSETFROM:+0000
TZOFFSETTO:+0000
TZNAME:UTC
DTSTART:20290101T000000
END:STANDARD
END:VTIMEZONE
BEGIN:VEVENT
DTSTART;TZID=UTC:20300131T190000
DTEND;TZID=UTC:20300201T010000
DTSTAMP:20260420T225252
CREATED:20260226T212528Z
LAST-MODIFIED:20260226T212528Z
UID:30000577-1896116400-1896138000@vfw5354.org
SUMMARY:Queen Of Hearts Thursdays
DESCRIPTION:Come in and Enjoy Live Music starting at 8PM every Thursday night with an 830PM QOH Draw.  Catch us live on Facebook as well.  Pool Tables\, Darts\, Gaming\, Golden Tee and great Times!
URL:https://vfw5354.org/event/queen-of-hearts-thursdays/2030-01-31/
LOCATION:VFW Post 5354\, 6653 Epworth Road\, Loveland\, OH\, 45140\, United States
CATEGORIES:Fun Times!
ATTACH;FMTTYPE=image/jpeg:https://vfw5354.org/wp-content/uploads/2026/02/643386970_122197806884339436_3449418211426218937_n.jpg
ORGANIZER;CN="The Loveland Canteen":MAILTO:vfw5354@gmail.com
END:VEVENT
BEGIN:VEVENT
DTSTART;TZID=UTC:20300201T200000
DTEND;TZID=UTC:20300202T020000
DTSTAMP:20260420T225252
CREATED:20260226T210009Z
LAST-MODIFIED:20260226T212112Z
UID:30000316-1896206400-1896228000@vfw5354.org
SUMMARY:Friday Night Jam Sessions
DESCRIPTION:Join us every Friday night for Friday Night Jam Sessions\,  Great Music\, Open Mic….  Gaming\, drinks\, food\, great bartenders\, Pool and darts
URL:https://vfw5354.org/event/friday-night-jam-sessions/2030-02-01/
LOCATION:VFW Post 5354\, 6653 Epworth Road\, Loveland\, OH\, 45140\, United States
CATEGORIES:Fun Times!
ATTACH;FMTTYPE=image/jpeg:https://vfw5354.org/wp-content/uploads/2026/02/639596449_122197227878339436_5412392756692254932_n.jpg
ORGANIZER;CN="The Loveland Canteen":MAILTO:vfw5354@gmail.com
END:VEVENT
BEGIN:VEVENT
DTSTART;TZID=UTC:20300207T190000
DTEND;TZID=UTC:20300208T010000
DTSTAMP:20260420T225252
CREATED:20260226T212528Z
LAST-MODIFIED:20260226T212528Z
UID:30000578-1896721200-1896742800@vfw5354.org
SUMMARY:Queen Of Hearts Thursdays
DESCRIPTION:Come in and Enjoy Live Music starting at 8PM every Thursday night with an 830PM QOH Draw.  Catch us live on Facebook as well.  Pool Tables\, Darts\, Gaming\, Golden Tee and great Times!
URL:https://vfw5354.org/event/queen-of-hearts-thursdays/2030-02-07/
LOCATION:VFW Post 5354\, 6653 Epworth Road\, Loveland\, OH\, 45140\, United States
CATEGORIES:Fun Times!
ATTACH;FMTTYPE=image/jpeg:https://vfw5354.org/wp-content/uploads/2026/02/643386970_122197806884339436_3449418211426218937_n.jpg
ORGANIZER;CN="The Loveland Canteen":MAILTO:vfw5354@gmail.com
END:VEVENT
BEGIN:VEVENT
DTSTART;TZID=UTC:20300208T200000
DTEND;TZID=UTC:20300209T020000
DTSTAMP:20260420T225252
CREATED:20260226T210009Z
LAST-MODIFIED:20260226T212112Z
UID:30000317-1896811200-1896832800@vfw5354.org
SUMMARY:Friday Night Jam Sessions
DESCRIPTION:Join us every Friday night for Friday Night Jam Sessions\,  Great Music\, Open Mic….  Gaming\, drinks\, food\, great bartenders\, Pool and darts
URL:https://vfw5354.org/event/friday-night-jam-sessions/2030-02-08/
LOCATION:VFW Post 5354\, 6653 Epworth Road\, Loveland\, OH\, 45140\, United States
CATEGORIES:Fun Times!
ATTACH;FMTTYPE=image/jpeg:https://vfw5354.org/wp-content/uploads/2026/02/639596449_122197227878339436_5412392756692254932_n.jpg
ORGANIZER;CN="The Loveland Canteen":MAILTO:vfw5354@gmail.com
END:VEVENT
BEGIN:VEVENT
DTSTART;TZID=UTC:20300214T190000
DTEND;TZID=UTC:20300215T010000
DTSTAMP:20260420T225252
CREATED:20260226T212528Z
LAST-MODIFIED:20260226T212528Z
UID:30000579-1897326000-1897347600@vfw5354.org
SUMMARY:Queen Of Hearts Thursdays
DESCRIPTION:Come in and Enjoy Live Music starting at 8PM every Thursday night with an 830PM QOH Draw.  Catch us live on Facebook as well.  Pool Tables\, Darts\, Gaming\, Golden Tee and great Times!
URL:https://vfw5354.org/event/queen-of-hearts-thursdays/2030-02-14/
LOCATION:VFW Post 5354\, 6653 Epworth Road\, Loveland\, OH\, 45140\, United States
CATEGORIES:Fun Times!
ATTACH;FMTTYPE=image/jpeg:https://vfw5354.org/wp-content/uploads/2026/02/643386970_122197806884339436_3449418211426218937_n.jpg
ORGANIZER;CN="The Loveland Canteen":MAILTO:vfw5354@gmail.com
END:VEVENT
BEGIN:VEVENT
DTSTART;TZID=UTC:20300215T200000
DTEND;TZID=UTC:20300216T020000
DTSTAMP:20260420T225252
CREATED:20260226T210009Z
LAST-MODIFIED:20260226T212112Z
UID:30000318-1897416000-1897437600@vfw5354.org
SUMMARY:Friday Night Jam Sessions
DESCRIPTION:Join us every Friday night for Friday Night Jam Sessions\,  Great Music\, Open Mic….  Gaming\, drinks\, food\, great bartenders\, Pool and darts
URL:https://vfw5354.org/event/friday-night-jam-sessions/2030-02-15/
LOCATION:VFW Post 5354\, 6653 Epworth Road\, Loveland\, OH\, 45140\, United States
CATEGORIES:Fun Times!
ATTACH;FMTTYPE=image/jpeg:https://vfw5354.org/wp-content/uploads/2026/02/639596449_122197227878339436_5412392756692254932_n.jpg
ORGANIZER;CN="The Loveland Canteen":MAILTO:vfw5354@gmail.com
END:VEVENT
BEGIN:VEVENT
DTSTART;TZID=UTC:20300221T190000
DTEND;TZID=UTC:20300222T010000
DTSTAMP:20260420T225252
CREATED:20260226T212528Z
LAST-MODIFIED:20260226T212528Z
UID:30000580-1897930800-1897952400@vfw5354.org
SUMMARY:Queen Of Hearts Thursdays
DESCRIPTION:Come in and Enjoy Live Music starting at 8PM every Thursday night with an 830PM QOH Draw.  Catch us live on Facebook as well.  Pool Tables\, Darts\, Gaming\, Golden Tee and great Times!
URL:https://vfw5354.org/event/queen-of-hearts-thursdays/2030-02-21/
LOCATION:VFW Post 5354\, 6653 Epworth Road\, Loveland\, OH\, 45140\, United States
CATEGORIES:Fun Times!
ATTACH;FMTTYPE=image/jpeg:https://vfw5354.org/wp-content/uploads/2026/02/643386970_122197806884339436_3449418211426218937_n.jpg
ORGANIZER;CN="The Loveland Canteen":MAILTO:vfw5354@gmail.com
END:VEVENT
BEGIN:VEVENT
DTSTART;TZID=UTC:20300222T200000
DTEND;TZID=UTC:20300223T020000
DTSTAMP:20260420T225252
CREATED:20260226T210009Z
LAST-MODIFIED:20260226T212112Z
UID:30000319-1898020800-1898042400@vfw5354.org
SUMMARY:Friday Night Jam Sessions
DESCRIPTION:Join us every Friday night for Friday Night Jam Sessions\,  Great Music\, Open Mic….  Gaming\, drinks\, food\, great bartenders\, Pool and darts
URL:https://vfw5354.org/event/friday-night-jam-sessions/2030-02-22/
LOCATION:VFW Post 5354\, 6653 Epworth Road\, Loveland\, OH\, 45140\, United States
CATEGORIES:Fun Times!
ATTACH;FMTTYPE=image/jpeg:https://vfw5354.org/wp-content/uploads/2026/02/639596449_122197227878339436_5412392756692254932_n.jpg
ORGANIZER;CN="The Loveland Canteen":MAILTO:vfw5354@gmail.com
END:VEVENT
BEGIN:VEVENT
DTSTART;TZID=UTC:20300228T190000
DTEND;TZID=UTC:20300301T010000
DTSTAMP:20260420T225252
CREATED:20260226T212528Z
LAST-MODIFIED:20260226T212528Z
UID:30000581-1898535600-1898557200@vfw5354.org
SUMMARY:Queen Of Hearts Thursdays
DESCRIPTION:Come in and Enjoy Live Music starting at 8PM every Thursday night with an 830PM QOH Draw.  Catch us live on Facebook as well.  Pool Tables\, Darts\, Gaming\, Golden Tee and great Times!
URL:https://vfw5354.org/event/queen-of-hearts-thursdays/2030-02-28/
LOCATION:VFW Post 5354\, 6653 Epworth Road\, Loveland\, OH\, 45140\, United States
CATEGORIES:Fun Times!
ATTACH;FMTTYPE=image/jpeg:https://vfw5354.org/wp-content/uploads/2026/02/643386970_122197806884339436_3449418211426218937_n.jpg
ORGANIZER;CN="The Loveland Canteen":MAILTO:vfw5354@gmail.com
END:VEVENT
END:VCALENDAR