BEGIN:VCALENDAR
VERSION:2.0
PRODID:-//VFW 5354 - ECPv6.15.18//NONSGML v1.0//EN
CALSCALE:GREGORIAN
METHOD:PUBLISH
X-WR-CALNAME:VFW 5354
X-ORIGINAL-URL:https://vfw5354.org
X-WR-CALDESC:Events for VFW 5354
REFRESH-INTERVAL;VALUE=DURATION:PT1H
X-Robots-Tag:noindex
X-PUBLISHED-TTL:PT1H
BEGIN:VTIMEZONE
TZID:UTC
BEGIN:STANDARD
TZOFFSETFROM:+0000
TZOFFSETTO:+0000
TZNAME:UTC
DTSTART:20290101T000000
END:STANDARD
END:VTIMEZONE
BEGIN:VEVENT
DTSTART;TZID=UTC:20300531T200000
DTEND;TZID=UTC:20300601T020000
DTSTAMP:20260421T085537
CREATED:20260226T210009Z
LAST-MODIFIED:20260226T212112Z
UID:30000333-1906488000-1906509600@vfw5354.org
SUMMARY:Friday Night Jam Sessions
DESCRIPTION:Join us every Friday night for Friday Night Jam Sessions\,  Great Music\, Open Mic….  Gaming\, drinks\, food\, great bartenders\, Pool and darts
URL:https://vfw5354.org/event/friday-night-jam-sessions/2030-05-31/
LOCATION:VFW Post 5354\, 6653 Epworth Road\, Loveland\, OH\, 45140\, United States
CATEGORIES:Fun Times!
ATTACH;FMTTYPE=image/jpeg:https://vfw5354.org/wp-content/uploads/2026/02/639596449_122197227878339436_5412392756692254932_n.jpg
ORGANIZER;CN="The Loveland Canteen":MAILTO:vfw5354@gmail.com
END:VEVENT
BEGIN:VEVENT
DTSTART;TZID=UTC:20300606T190000
DTEND;TZID=UTC:20300607T010000
DTSTAMP:20260421T085537
CREATED:20260226T212528Z
LAST-MODIFIED:20260226T212528Z
UID:30000595-1907002800-1907024400@vfw5354.org
SUMMARY:Queen Of Hearts Thursdays
DESCRIPTION:Come in and Enjoy Live Music starting at 8PM every Thursday night with an 830PM QOH Draw.  Catch us live on Facebook as well.  Pool Tables\, Darts\, Gaming\, Golden Tee and great Times!
URL:https://vfw5354.org/event/queen-of-hearts-thursdays/2030-06-06/
LOCATION:VFW Post 5354\, 6653 Epworth Road\, Loveland\, OH\, 45140\, United States
CATEGORIES:Fun Times!
ATTACH;FMTTYPE=image/jpeg:https://vfw5354.org/wp-content/uploads/2026/02/643386970_122197806884339436_3449418211426218937_n.jpg
ORGANIZER;CN="The Loveland Canteen":MAILTO:vfw5354@gmail.com
END:VEVENT
BEGIN:VEVENT
DTSTART;TZID=UTC:20300607T200000
DTEND;TZID=UTC:20300608T020000
DTSTAMP:20260421T085537
CREATED:20260226T210009Z
LAST-MODIFIED:20260226T212112Z
UID:30000334-1907092800-1907114400@vfw5354.org
SUMMARY:Friday Night Jam Sessions
DESCRIPTION:Join us every Friday night for Friday Night Jam Sessions\,  Great Music\, Open Mic….  Gaming\, drinks\, food\, great bartenders\, Pool and darts
URL:https://vfw5354.org/event/friday-night-jam-sessions/2030-06-07/
LOCATION:VFW Post 5354\, 6653 Epworth Road\, Loveland\, OH\, 45140\, United States
CATEGORIES:Fun Times!
ATTACH;FMTTYPE=image/jpeg:https://vfw5354.org/wp-content/uploads/2026/02/639596449_122197227878339436_5412392756692254932_n.jpg
ORGANIZER;CN="The Loveland Canteen":MAILTO:vfw5354@gmail.com
END:VEVENT
BEGIN:VEVENT
DTSTART;TZID=UTC:20300613T190000
DTEND;TZID=UTC:20300614T010000
DTSTAMP:20260421T085537
CREATED:20260226T212528Z
LAST-MODIFIED:20260226T212528Z
UID:30000596-1907607600-1907629200@vfw5354.org
SUMMARY:Queen Of Hearts Thursdays
DESCRIPTION:Come in and Enjoy Live Music starting at 8PM every Thursday night with an 830PM QOH Draw.  Catch us live on Facebook as well.  Pool Tables\, Darts\, Gaming\, Golden Tee and great Times!
URL:https://vfw5354.org/event/queen-of-hearts-thursdays/2030-06-13/
LOCATION:VFW Post 5354\, 6653 Epworth Road\, Loveland\, OH\, 45140\, United States
CATEGORIES:Fun Times!
ATTACH;FMTTYPE=image/jpeg:https://vfw5354.org/wp-content/uploads/2026/02/643386970_122197806884339436_3449418211426218937_n.jpg
ORGANIZER;CN="The Loveland Canteen":MAILTO:vfw5354@gmail.com
END:VEVENT
BEGIN:VEVENT
DTSTART;TZID=UTC:20300614T200000
DTEND;TZID=UTC:20300615T020000
DTSTAMP:20260421T085537
CREATED:20260226T210009Z
LAST-MODIFIED:20260226T212112Z
UID:30000335-1907697600-1907719200@vfw5354.org
SUMMARY:Friday Night Jam Sessions
DESCRIPTION:Join us every Friday night for Friday Night Jam Sessions\,  Great Music\, Open Mic….  Gaming\, drinks\, food\, great bartenders\, Pool and darts
URL:https://vfw5354.org/event/friday-night-jam-sessions/2030-06-14/
LOCATION:VFW Post 5354\, 6653 Epworth Road\, Loveland\, OH\, 45140\, United States
CATEGORIES:Fun Times!
ATTACH;FMTTYPE=image/jpeg:https://vfw5354.org/wp-content/uploads/2026/02/639596449_122197227878339436_5412392756692254932_n.jpg
ORGANIZER;CN="The Loveland Canteen":MAILTO:vfw5354@gmail.com
END:VEVENT
BEGIN:VEVENT
DTSTART;TZID=UTC:20300620T190000
DTEND;TZID=UTC:20300621T010000
DTSTAMP:20260421T085537
CREATED:20260226T212528Z
LAST-MODIFIED:20260226T212528Z
UID:30000597-1908212400-1908234000@vfw5354.org
SUMMARY:Queen Of Hearts Thursdays
DESCRIPTION:Come in and Enjoy Live Music starting at 8PM every Thursday night with an 830PM QOH Draw.  Catch us live on Facebook as well.  Pool Tables\, Darts\, Gaming\, Golden Tee and great Times!
URL:https://vfw5354.org/event/queen-of-hearts-thursdays/2030-06-20/
LOCATION:VFW Post 5354\, 6653 Epworth Road\, Loveland\, OH\, 45140\, United States
CATEGORIES:Fun Times!
ATTACH;FMTTYPE=image/jpeg:https://vfw5354.org/wp-content/uploads/2026/02/643386970_122197806884339436_3449418211426218937_n.jpg
ORGANIZER;CN="The Loveland Canteen":MAILTO:vfw5354@gmail.com
END:VEVENT
BEGIN:VEVENT
DTSTART;TZID=UTC:20300621T200000
DTEND;TZID=UTC:20300622T020000
DTSTAMP:20260421T085537
CREATED:20260226T210009Z
LAST-MODIFIED:20260226T212112Z
UID:30000336-1908302400-1908324000@vfw5354.org
SUMMARY:Friday Night Jam Sessions
DESCRIPTION:Join us every Friday night for Friday Night Jam Sessions\,  Great Music\, Open Mic….  Gaming\, drinks\, food\, great bartenders\, Pool and darts
URL:https://vfw5354.org/event/friday-night-jam-sessions/2030-06-21/
LOCATION:VFW Post 5354\, 6653 Epworth Road\, Loveland\, OH\, 45140\, United States
CATEGORIES:Fun Times!
ATTACH;FMTTYPE=image/jpeg:https://vfw5354.org/wp-content/uploads/2026/02/639596449_122197227878339436_5412392756692254932_n.jpg
ORGANIZER;CN="The Loveland Canteen":MAILTO:vfw5354@gmail.com
END:VEVENT
BEGIN:VEVENT
DTSTART;TZID=UTC:20300627T190000
DTEND;TZID=UTC:20300628T010000
DTSTAMP:20260421T085537
CREATED:20260226T212528Z
LAST-MODIFIED:20260226T212528Z
UID:30000598-1908817200-1908838800@vfw5354.org
SUMMARY:Queen Of Hearts Thursdays
DESCRIPTION:Come in and Enjoy Live Music starting at 8PM every Thursday night with an 830PM QOH Draw.  Catch us live on Facebook as well.  Pool Tables\, Darts\, Gaming\, Golden Tee and great Times!
URL:https://vfw5354.org/event/queen-of-hearts-thursdays/2030-06-27/
LOCATION:VFW Post 5354\, 6653 Epworth Road\, Loveland\, OH\, 45140\, United States
CATEGORIES:Fun Times!
ATTACH;FMTTYPE=image/jpeg:https://vfw5354.org/wp-content/uploads/2026/02/643386970_122197806884339436_3449418211426218937_n.jpg
ORGANIZER;CN="The Loveland Canteen":MAILTO:vfw5354@gmail.com
END:VEVENT
BEGIN:VEVENT
DTSTART;TZID=UTC:20300628T200000
DTEND;TZID=UTC:20300629T020000
DTSTAMP:20260421T085537
CREATED:20260226T210009Z
LAST-MODIFIED:20260226T212112Z
UID:30000337-1908907200-1908928800@vfw5354.org
SUMMARY:Friday Night Jam Sessions
DESCRIPTION:Join us every Friday night for Friday Night Jam Sessions\,  Great Music\, Open Mic….  Gaming\, drinks\, food\, great bartenders\, Pool and darts
URL:https://vfw5354.org/event/friday-night-jam-sessions/2030-06-28/
LOCATION:VFW Post 5354\, 6653 Epworth Road\, Loveland\, OH\, 45140\, United States
CATEGORIES:Fun Times!
ATTACH;FMTTYPE=image/jpeg:https://vfw5354.org/wp-content/uploads/2026/02/639596449_122197227878339436_5412392756692254932_n.jpg
ORGANIZER;CN="The Loveland Canteen":MAILTO:vfw5354@gmail.com
END:VEVENT
END:VCALENDAR